BEGIN:VCALENDAR
VERSION:2.0
PRODID:spatie/icalendar-generator
DESCRIPTION:Events from Dane Stevens
X-WR-CALDESC:Events from Dane Stevens
REFRESH-INTERVAL;VALUE=DURATION:PT1440M
X-PUBLISHED-TTL:PT1440M
BEGIN:VTIMEZONE
TZID:Etc/GMT+0
BEGIN:STANDARD
DTSTART:20220419T100000Z
TZOFFSETFROM:+0000
TZOFFSETTO:+0000
END:STANDARD
END:VTIMEZONE
BEGIN:VTIMEZONE
TZID:UTC
BEGIN:STANDARD
DTSTART:20250724T103959Z
TZOFFSETFROM:+0000
TZOFFSETTO:+0000
END:STANDARD
END:VTIMEZONE
BEGIN:VEVENT
UID:3-3
DTSTAMP:20260420T103959Z
SUMMARY:A New World - A New Way
LOCATION:
ORGANIZER;CN=Dane Stevens:MAILTO:dane@danestevensonline.com
DTSTART;TZID=Etc/GMT+0:20230114T100000
DTEND;TZID=Etc/GMT+0:20230115T173000
X-ALT-DESC;FMTTYPE=TEXT/HTML:
CATEGORIES:General
URL;VALUE=URI:https://danestevensonline.com/my-calendar/?mc_id=3&#038;vcal=
 3
METHOD:PUBLISH
END:VEVENT
END:VCALENDAR