BEGIN:VCALENDAR
VERSION:2.0
PRODID:-//Dane Stevens - ECPv6.15.12.2//NONSGML v1.0//EN
CALSCALE:GREGORIAN
METHOD:PUBLISH
X-WR-CALNAME:Dane Stevens
X-ORIGINAL-URL:https://danestevensonline.com
X-WR-CALDESC:Events for Dane Stevens
REFRESH-INTERVAL;VALUE=DURATION:PT1H
X-Robots-Tag:noindex
X-PUBLISHED-TTL:PT1H
BEGIN:VTIMEZONE
TZID:UTC
BEGIN:STANDARD
TZOFFSETFROM:+0000
TZOFFSETTO:+0000
TZNAME:UTC
DTSTART:20180101T000000
END:STANDARD
END:VTIMEZONE
BEGIN:VEVENT
DTSTART;TZID=UTC:20191024T190000
DTEND;TZID=UTC:20191024T220000
DTSTAMP:20260423T153826
CREATED:20190207T041718Z
LAST-MODIFIED:20191021T215323Z
UID:14340-1571943600-1571954400@danestevensonline.com
SUMMARY:Book Launch! Reclaim Your Power to Create Your Best Life
DESCRIPTION:Launch Party Alert! Release Your Power is coming this October! Mark your calendars for October 24th and get your copy of Reclaim Your Power to Create Your Best Life! Dane Stevens will be in attendance to sign your copy\, everyone is welcome to bring friends! You can order a digital copy of the RYP book: http://danestevensonline.com/store/. To RSVP to the event fill out the form below \n 
URL:https://danestevensonline.com/event/reclaim-your-power-official-book-launch/
LOCATION:North Vancouver\, 1078 Marine Dr.\, North Vancouver\, British Columbia\, Canada
CATEGORIES:Events,Speaking Engagements
ATTACH;FMTTYPE=image/jpeg:https://danestevensonline.com/wp-content/uploads/2019/01/reclaim-your-power-hero-1.jpg
END:VEVENT
BEGIN:VEVENT
DTSTART;TZID=UTC:20190227T190000
DTEND;TZID=UTC:20190227T210000
DTSTAMP:20260423T153826
CREATED:20190117T222552Z
LAST-MODIFIED:20190207T042433Z
UID:13829-1551294000-1551301200@danestevensonline.com
SUMMARY:An Interactive Live Event  Soul Re-Cognition: Heal and Reveal Your Ultimate Self
DESCRIPTION:In this introduction to the Soul Re-Cognition Process you will learn how to access your most powerful creative faculty – your sub-conscious mind and unleash your authentic self; your inner genius. Connect with your inner guidance system and learn how to move into a life of sustainable peace passion and fulfillment in your health\, wealth and relationships.\nLive the life you came here to live!
URL:https://danestevensonline.com/event/an-interactive-live-event-soul-re-cognition-heal-and-reveal-your-ultimate-self/
LOCATION:At the Music Box\, 1564 Argyle Ave\, West Vancouver\, British Columbia\, Canada
CATEGORIES:Speaking Engagements,Workshops and Seminars
ATTACH;FMTTYPE=image/jpeg:https://danestevensonline.com/wp-content/uploads/2018/11/magician3.jpg
END:VEVENT
BEGIN:VEVENT
DTSTART;TZID=UTC:20190214T080000
DTEND;TZID=UTC:20190214T170000
DTSTAMP:20260423T153826
CREATED:20190111T203356Z
LAST-MODIFIED:20190207T042437Z
UID:14140-1550131200-1550163600@danestevensonline.com
SUMMARY:Relationships:  Learn How to Transform Them For The Better.
DESCRIPTION:When You Transform Yourself…\nYou Transform Your Relationships with Ease and Clarity \nThis seminar is suitable for individuals and couples. \nExperiencing difficulties in your Love-ships\, family-ships or friendships?\nDo you want respectful\, compassionate and honest relationships but are settling for less?\nLooking for loving and fulfilling interactions but find yourself drowning in either drama\, or stagnation?\nAre your relationships short lived or non-existent? \nThe primary drive behind every relationship in your life stems directly from the one you are having with yourself. Difficult relationships mirror back to us our beliefs and our wounding. They are a powerful incentive for us to look inward. They can be the opportunity or catalyst to great personal healing and growth for ourselves\, and therefore with others. \nJoin us in exploring the fundamental and essential elements of healthy relationships. This is seminar will show you a way of tapping into your most powerful creative faculty – your subconscious mind to help you understand… \n\nWhy am I getting what I am getting?\nAm I short-changing myself; why am I missing the mark?\nHow can I communicate effectively and be understood?\nHow can I create happy\, loving and passionate relationships?\n\nThe unique and profound process we share with you will reveal what you can do to heal and strengthen your sense of self; how you can give to yourself exactly what you need to feel loved and complete within yourself. Once you that happens\, watch all your other relationships magically transform with clarity and ease. \nBring: Paper and a pen\, an open mind and a willing heart! \nWhere? – 1460 Main St.\, North Vancouver\, BC Canada \nWhen? – April 23 2017.
URL:https://danestevensonline.com/event/relationships-learn-how-to-transform-them-for-the-better/
LOCATION:Webinar
CATEGORIES:Webinar
ATTACH;FMTTYPE=image/jpeg:https://danestevensonline.com/wp-content/uploads/2018/12/dane-stevens-relationships.jpg
END:VEVENT
BEGIN:VEVENT
DTSTART;TZID=UTC:20190205T080000
DTEND;TZID=UTC:20190205T170000
DTSTAMP:20260423T153826
CREATED:20190119T203200Z
LAST-MODIFIED:20190207T042441Z
UID:14136-1549353600-1549386000@danestevensonline.com
SUMMARY:Live Interactive Experience of the Nuero Trauma Healing Process
DESCRIPTION:NTHP is for when there is conflict between who we truly are and who we have become.\nWe all have them; negative patterns that creep into our lives that prevent us from realizing our full potential. It could be anything from a chronic condition; an addiction\, or simply failing to live the joyful life we know we are capable of that show us we are somehow out of alignment with our authentic self. \nThe Neuro Trauma Healing Process is a person centered process that allows direct contact with the subconscious mind – our most powerful creative faculty\, for the purpose of re-aligning with that essential part of our self; our true nature. With the guidance of a trained NTHP facilitator you will be taken through a proven process of left / right brained exercises and guided meditations that will allow you how to tap into your higher self and get the healing\, wisdom and direction needed specific to you. \nHeal Your Past: Your Gifts\, Passions and Purpose Ignited\, Your Ultimate Life Revealed! \nJoin Dane and Anne in an intimate group setting where you can experience the profound results of the Neuro Trauma and Soul Re-Cognition Processes first hand.  See how these safe and effective processes can transform your life. Take yourself from pain\, frustration and confusion into the freedom and passion of living the life you know in your heart you are here to live. …by simply being who you truly are! \nBring: Paper and a pen\, an open mind and a willing heart! \nWhere? – 1460 Main St.\, North Vancouver\, BC Canada \nWhen? – May 24th & June 14 – 7pm – 9pm. \nCost? –  Free!
URL:https://danestevensonline.com/event/live-interactive-experience-of-the-nuero-trauma-healing-process/
LOCATION:Webinar
CATEGORIES:Events
ATTACH;FMTTYPE=image/jpeg:https://danestevensonline.com/wp-content/uploads/2018/12/live-interactive-event.jpg
END:VEVENT
END:VCALENDAR