BEGIN:VCALENDAR
VERSION:2.0
PRODID:-//Dane Stevens - ECPv6.15.12.2//NONSGML v1.0//EN
CALSCALE:GREGORIAN
METHOD:PUBLISH
X-ORIGINAL-URL:https://danestevensonline.com
X-WR-CALDESC:Events for Dane Stevens
REFRESH-INTERVAL;VALUE=DURATION:PT1H
X-Robots-Tag:noindex
X-PUBLISHED-TTL:PT1H
BEGIN:VTIMEZONE
TZID:UTC
BEGIN:STANDARD
TZOFFSETFROM:+0000
TZOFFSETTO:+0000
TZNAME:UTC
DTSTART:20180101T000000
END:STANDARD
END:VTIMEZONE
BEGIN:VEVENT
DTSTART;TZID=UTC:20190214T080000
DTEND;TZID=UTC:20190214T170000
DTSTAMP:20260424T104024
CREATED:20190111T203356Z
LAST-MODIFIED:20190207T042437Z
UID:14140-1550131200-1550163600@danestevensonline.com
SUMMARY:Relationships:  Learn How to Transform Them For The Better.
DESCRIPTION:When You Transform Yourself…\nYou Transform Your Relationships with Ease and Clarity \nThis seminar is suitable for individuals and couples. \nExperiencing difficulties in your Love-ships\, family-ships or friendships?\nDo you want respectful\, compassionate and honest relationships but are settling for less?\nLooking for loving and fulfilling interactions but find yourself drowning in either drama\, or stagnation?\nAre your relationships short lived or non-existent? \nThe primary drive behind every relationship in your life stems directly from the one you are having with yourself. Difficult relationships mirror back to us our beliefs and our wounding. They are a powerful incentive for us to look inward. They can be the opportunity or catalyst to great personal healing and growth for ourselves\, and therefore with others. \nJoin us in exploring the fundamental and essential elements of healthy relationships. This is seminar will show you a way of tapping into your most powerful creative faculty – your subconscious mind to help you understand… \n\nWhy am I getting what I am getting?\nAm I short-changing myself; why am I missing the mark?\nHow can I communicate effectively and be understood?\nHow can I create happy\, loving and passionate relationships?\n\nThe unique and profound process we share with you will reveal what you can do to heal and strengthen your sense of self; how you can give to yourself exactly what you need to feel loved and complete within yourself. Once you that happens\, watch all your other relationships magically transform with clarity and ease. \nBring: Paper and a pen\, an open mind and a willing heart! \nWhere? – 1460 Main St.\, North Vancouver\, BC Canada \nWhen? – April 23 2017.
URL:https://danestevensonline.com/event/relationships-learn-how-to-transform-them-for-the-better/
LOCATION:Webinar
CATEGORIES:Webinar
ATTACH;FMTTYPE=image/jpeg:https://danestevensonline.com/wp-content/uploads/2018/12/dane-stevens-relationships.jpg
END:VEVENT
END:VCALENDAR